BEGIN:VCALENDAR
VERSION:2.0
PRODID:-//Colegio Americano de Tabasco SC - ECPv6.9.1//NONSGML v1.0//EN
CALSCALE:GREGORIAN
METHOD:PUBLISH
X-WR-CALNAME:Colegio Americano de Tabasco SC
X-ORIGINAL-URL:https://cat.edu.mx
X-WR-CALDESC:Eventos para Colegio Americano de Tabasco SC
REFRESH-INTERVAL;VALUE=DURATION:PT1H
X-Robots-Tag:noindex
X-PUBLISHED-TTL:PT1H
BEGIN:VTIMEZONE
TZID:UTC
BEGIN:STANDARD
TZOFFSETFROM:+0000
TZOFFSETTO:+0000
TZNAME:UTC
DTSTART:20250101T000000
END:STANDARD
END:VTIMEZONE
BEGIN:VEVENT
DTSTART;VALUE=DATE:20251128
DTEND;VALUE=DATE:20251129
DTSTAMP:20260423T105438
CREATED:20251127T151757Z
LAST-MODIFIED:20251127T151849Z
UID:10001168-1764288000-1764374399@cat.edu.mx
SUMMARY:PRIMARIA: Inicia campaña de donación de juguetes
DESCRIPTION:1° a 3° Juguetes nuevos o usados en buen estado para niñas y niños de comunidades necesitadas \n(Misión K) \n4° a 6° Juguetes nuevos para niñas y niños del Hospital del Niño (ANIDAR)
URL:https://cat.edu.mx/evento/primaria-inicia-campana-de-donacion-de-juguetes/
CATEGORIES:Primaria
END:VEVENT
BEGIN:VEVENT
DTSTART;TZID=UTC:20251128T080000
DTEND;TZID=UTC:20251128T130000
DTSTAMP:20260423T105438
CREATED:20251030T205039Z
LAST-MODIFIED:20251030T205039Z
UID:10001160-1764316800-1764334800@cat.edu.mx
SUMMARY:PRIMARIA: SUSPENSIÓN DE  LABORES PARA  ALUMNOS POR  CONSEJO TÉCNICO  ESCOLAR  Y TALLER INTENSIVO DE FORMACIÓN CONTINUA PARA DOCENTES
DESCRIPTION:
URL:https://cat.edu.mx/evento/primaria-suspension-de-labores-para-alumnos-por-consejo-tecnico-escolar-y-taller-intensivo-de-formacion-continua-para-docentes-2/
CATEGORIES:Primaria
END:VEVENT
END:VCALENDAR