BEGIN:VCALENDAR
VERSION:2.0
PRODID:-//Colegio Americano de Tabasco SC - ECPv6.9.1//NONSGML v1.0//EN
CALSCALE:GREGORIAN
METHOD:PUBLISH
X-WR-CALNAME:Colegio Americano de Tabasco SC
X-ORIGINAL-URL:https://cat.edu.mx
X-WR-CALDESC:Eventos para Colegio Americano de Tabasco SC
REFRESH-INTERVAL;VALUE=DURATION:PT1H
X-Robots-Tag:noindex
X-PUBLISHED-TTL:PT1H
BEGIN:VTIMEZONE
TZID:UTC
BEGIN:STANDARD
TZOFFSETFROM:+0000
TZOFFSETTO:+0000
TZNAME:UTC
DTSTART:20260101T000000
END:STANDARD
END:VTIMEZONE
BEGIN:VEVENT
DTSTART;VALUE=DATE:20260330
DTEND;VALUE=DATE:20260411
DTSTAMP:20260420T160051
CREATED:20260223T190906Z
LAST-MODIFIED:20260223T190906Z
UID:10001324-1774828800-1775865599@cat.edu.mx
SUMMARY:Vacaciones de Semana Santa
DESCRIPTION:
URL:https://cat.edu.mx/evento/vacaciones-de-semana-santa/
CATEGORIES:Generales
END:VEVENT
BEGIN:VEVENT
DTSTART;VALUE=DATE:20260407
DTEND;VALUE=DATE:20260408
DTSTAMP:20260420T160051
CREATED:20260324T153724Z
LAST-MODIFIED:20260324T153724Z
UID:10001354-1775520000-1775606399@cat.edu.mx
SUMMARY:Día Mundial de la Salud (OMS)
DESCRIPTION:
URL:https://cat.edu.mx/evento/dia-mundial-de-la-salud-oms/
CATEGORIES:Generales
END:VEVENT
BEGIN:VEVENT
DTSTART;TZID=UTC:20260407T080000
DTEND;TZID=UTC:20260407T090000
DTSTAMP:20260420T160051
CREATED:20260319T152740Z
LAST-MODIFIED:20260319T152740Z
UID:10001325-1775548800-1775552400@cat.edu.mx
SUMMARY:PRIMARIA: Fecha límite de pago de colegiatura con descuento.
DESCRIPTION:
URL:https://cat.edu.mx/evento/primaria-fecha-limite-de-pago-de-colegiatura-con-descuento-4/
CATEGORIES:Primaria
END:VEVENT
END:VCALENDAR