BEGIN:VCALENDAR
VERSION:2.0
PRODID:-//Colegio Americano de Tabasco SC - ECPv6.9.1//NONSGML v1.0//EN
CALSCALE:GREGORIAN
METHOD:PUBLISH
X-WR-CALNAME:Colegio Americano de Tabasco SC
X-ORIGINAL-URL:https://cat.edu.mx
X-WR-CALDESC:Eventos para Colegio Americano de Tabasco SC
REFRESH-INTERVAL;VALUE=DURATION:PT1H
X-Robots-Tag:noindex
X-PUBLISHED-TTL:PT1H
BEGIN:VTIMEZONE
TZID:UTC
BEGIN:STANDARD
TZOFFSETFROM:+0000
TZOFFSETTO:+0000
TZNAME:UTC
DTSTART:20260101T000000
END:STANDARD
END:VTIMEZONE
BEGIN:VEVENT
DTSTART;TZID=UTC:20260420T080000
DTEND;TZID=UTC:20260420T090000
DTSTAMP:20260420T071616
CREATED:20260324T152211Z
LAST-MODIFIED:20260324T152211Z
UID:10001339-1776672000-1776675600@cat.edu.mx
SUMMARY:PRIMARIA: 1° a 6° Se asigna Lectura 3 de “Loqueleo”. Trimestre 3
DESCRIPTION:
URL:https://cat.edu.mx/evento/primaria-1-a-6-se-asigna-lectura-3-de-loqueleo-trimestre-3/
CATEGORIES:Primaria
END:VEVENT
BEGIN:VEVENT
DTSTART;TZID=UTC:20260420T100000
DTEND;TZID=UTC:20260420T111500
DTSTAMP:20260420T071616
CREATED:20260324T152248Z
LAST-MODIFIED:20260324T152248Z
UID:10001340-1776679200-1776683700@cat.edu.mx
SUMMARY:PRIMARIA: Torneo interno de Handball (recreos) 1°A vs 1ºB y 4°A vs 4ºB. Traer la playera del equipo
DESCRIPTION:
URL:https://cat.edu.mx/evento/primaria-torneo-interno-de-handball-recreos-1a-vs-1ob-y-4a-vs-4ob-traer-la-playera-del-equipo/
CATEGORIES:Primaria
END:VEVENT
END:VCALENDAR