BEGIN:VCALENDAR
VERSION:2.0
PRODID:-//Colegio Americano de Tabasco SC - ECPv6.9.1//NONSGML v1.0//EN
CALSCALE:GREGORIAN
METHOD:PUBLISH
X-ORIGINAL-URL:https://cat.edu.mx
X-WR-CALDESC:Eventos para Colegio Americano de Tabasco SC
REFRESH-INTERVAL;VALUE=DURATION:PT1H
X-Robots-Tag:noindex
X-PUBLISHED-TTL:PT1H
BEGIN:VTIMEZONE
TZID:UTC
BEGIN:STANDARD
TZOFFSETFROM:+0000
TZOFFSETTO:+0000
TZNAME:UTC
DTSTART:20260101T000000
END:STANDARD
END:VTIMEZONE
BEGIN:VEVENT
DTSTART;VALUE=DATE:20260422
DTEND;VALUE=DATE:20260423
DTSTAMP:20260420T161047
CREATED:20260324T153802Z
LAST-MODIFIED:20260324T153802Z
UID:10001355-1776816000-1776902399@cat.edu.mx
SUMMARY:Día Internacional de la Madre Tierra (UNESCO)
DESCRIPTION:
URL:https://cat.edu.mx/evento/dia-internacional-de-la-madre-tierra-unesco/
CATEGORIES:Generales
END:VEVENT
BEGIN:VEVENT
DTSTART;VALUE=DATE:20260422
DTEND;VALUE=DATE:20260425
DTSTAMP:20260420T161047
CREATED:20260319T153218Z
LAST-MODIFIED:20260319T153739Z
UID:10001328-1776816000-1777075199@cat.edu.mx
SUMMARY:PRIMARIA: 1° a 3° SPELLING BEE CONTEST  WEEK
DESCRIPTION:
URL:https://cat.edu.mx/evento/primaria-1-a-3-s-p-e-l-l-i-n-g-b-e-e-c-o-n-t-e-s-t-w-e-e-k/
CATEGORIES:Primaria
END:VEVENT
BEGIN:VEVENT
DTSTART;TZID=UTC:20260422T090000
DTEND;TZID=UTC:20260422T100000
DTSTAMP:20260420T161047
CREATED:20260324T152549Z
LAST-MODIFIED:20260324T152549Z
UID:10001344-1776848400-1776852000@cat.edu.mx
SUMMARY:PRIMARIA: 1° a 6° Evaluación 4 de Habilidades Matemáticas. Trimestre 3
DESCRIPTION:
URL:https://cat.edu.mx/evento/primaria-1-a-6-evaluacion-4-de-habilidades-matematicas-trimestre-3/
CATEGORIES:Primaria
END:VEVENT
BEGIN:VEVENT
DTSTART;TZID=UTC:20260422T100000
DTEND;TZID=UTC:20260422T111500
DTSTAMP:20260420T161047
CREATED:20260324T151631Z
LAST-MODIFIED:20260414T183209Z
UID:10001336-1776852000-1776856500@cat.edu.mx
SUMMARY:PRIMARIA: Torneo interno de Handball (recreos) 2°A vs 2ºB y 5°A vs 5ºB. Traer la playera del equipo
DESCRIPTION:SE REPROGRAMARON LOS JUEGOS
URL:https://cat.edu.mx/evento/primaria-torneo-interno-de-handball-recreos-2a-vs-2ob-y-5a-vs-5ob-traer-la-playera-del-equipo/
CATEGORIES:Primaria
END:VEVENT
END:VCALENDAR