BEGIN:VCALENDAR
VERSION:2.0
PRODID:-//Colegio Americano de Tabasco SC - ECPv6.9.1//NONSGML v1.0//EN
CALSCALE:GREGORIAN
METHOD:PUBLISH
X-ORIGINAL-URL:https://cat.edu.mx
X-WR-CALDESC:Eventos para Colegio Americano de Tabasco SC
REFRESH-INTERVAL;VALUE=DURATION:PT1H
X-Robots-Tag:noindex
X-PUBLISHED-TTL:PT1H
BEGIN:VTIMEZONE
TZID:UTC
BEGIN:STANDARD
TZOFFSETFROM:+0000
TZOFFSETTO:+0000
TZNAME:UTC
DTSTART:20260101T000000
END:STANDARD
END:VTIMEZONE
BEGIN:VEVENT
DTSTART;VALUE=DATE:20260427
DTEND;VALUE=DATE:20260430
DTSTAMP:20260420T160144
CREATED:20260319T153314Z
LAST-MODIFIED:20260319T153615Z
UID:10001329-1777248000-1777507199@cat.edu.mx
SUMMARY:PRIMARIA: 4° a 6°   SPELLING BEE  CONTEST  WEEK
DESCRIPTION:
URL:https://cat.edu.mx/evento/primaria-4-a-6-s-p-e-l-l-i-n-g-b-e-e-c-o-n-t-e-s-t-w-e-e-k/
CATEGORIES:Primaria
END:VEVENT
BEGIN:VEVENT
DTSTART;TZID=UTC:20260429T080000
DTEND;TZID=UTC:20260429T090000
DTSTAMP:20260420T160144
CREATED:20260324T153136Z
LAST-MODIFIED:20260324T153136Z
UID:10001351-1777449600-1777453200@cat.edu.mx
SUMMARY:PRIMARIA: 1° a 6°  Evaluación parcial de Saberes y Pensamiento Científico (Matemáticas). Trimestre 3
DESCRIPTION:
URL:https://cat.edu.mx/evento/primaria-1-a-6-evaluacion-parcial-de-saberes-y-pensamiento-cientifico-matematicas-trimestre-3/
CATEGORIES:Primaria
END:VEVENT
END:VCALENDAR