BEGIN:VCALENDAR
VERSION:2.0
PRODID:-//Colegio Americano de Tabasco SC - ECPv6.9.1//NONSGML v1.0//EN
CALSCALE:GREGORIAN
METHOD:PUBLISH
X-WR-CALNAME:Colegio Americano de Tabasco SC
X-ORIGINAL-URL:https://cat.edu.mx
X-WR-CALDESC:Eventos para Colegio Americano de Tabasco SC
REFRESH-INTERVAL;VALUE=DURATION:PT1H
X-Robots-Tag:noindex
X-PUBLISHED-TTL:PT1H
BEGIN:VTIMEZONE
TZID:UTC
BEGIN:STANDARD
TZOFFSETFROM:+0000
TZOFFSETTO:+0000
TZNAME:UTC
DTSTART:20250101T000000
END:STANDARD
END:VTIMEZONE
BEGIN:VEVENT
DTSTART;VALUE=DATE:20251123
DTEND;VALUE=DATE:20251124
DTSTAMP:20260423T125020
CREATED:20251030T205517Z
LAST-MODIFIED:20251030T205517Z
UID:10001166-1763856000-1763942399@cat.edu.mx
SUMMARY:Día de la Armada de México
DESCRIPTION:
URL:https://cat.edu.mx/evento/dia-de-la-armada-de-mexico/
CATEGORIES:Generales
END:VEVENT
BEGIN:VEVENT
DTSTART;TZID=UTC:20251124T080000
DTEND;TZID=UTC:20251124T090000
DTSTAMP:20260423T125020
CREATED:20251030T204257Z
LAST-MODIFIED:20251030T204257Z
UID:10001150-1763971200-1763974800@cat.edu.mx
SUMMARY:PRIMARIA: 1° a 6° Se asigna Lectura 2 de “Loqueleo”. Trimestre 2
DESCRIPTION:
URL:https://cat.edu.mx/evento/primaria-1-a-6-se-asigna-lectura-2-de-loqueleo-trimestre-2/
CATEGORIES:Primaria
END:VEVENT
BEGIN:VEVENT
DTSTART;TZID=UTC:20251124T100000
DTEND;TZID=UTC:20251124T111500
DTSTAMP:20260423T125020
CREATED:20251030T204344Z
LAST-MODIFIED:20251111T165244Z
UID:10001151-1763978400-1763982900@cat.edu.mx
SUMMARY:PRIMARIA: Finales de Torneo de Básquetbol (recreos)  1°A vs 1°B y 4°A vs 4°D Varonil. Están invitados los papás
DESCRIPTION:
URL:https://cat.edu.mx/evento/primaria-finales-de-torneo-de-basquetbol-recreos-1-y-4-varonil-estan-invitados-los-papas/
CATEGORIES:Primaria
END:VEVENT
BEGIN:VEVENT
DTSTART;VALUE=DATE:20251125
DTEND;VALUE=DATE:20251126
DTSTAMP:20260423T125020
CREATED:20251030T205543Z
LAST-MODIFIED:20251030T205543Z
UID:10001167-1764028800-1764115199@cat.edu.mx
SUMMARY:Día internacional de la eliminación de la violencia contra la mujer
DESCRIPTION:
URL:https://cat.edu.mx/evento/dia-internacional-de-la-eliminacion-de-la-violencia-contra-la-mujer/
CATEGORIES:Generales
END:VEVENT
BEGIN:VEVENT
DTSTART;TZID=UTC:20251125T070000
DTEND;TZID=UTC:20251125T080000
DTSTAMP:20260423T125020
CREATED:20251030T204718Z
LAST-MODIFIED:20251030T204718Z
UID:10001155-1764054000-1764057600@cat.edu.mx
SUMMARY:PRIMARIA: 1° a 6° Se publican  calificaciones del Trimestre I en el sitio WEB del Colegio. Consultar en  www.cat.edu.mx con su  Llave CAT (matrícula)
DESCRIPTION:
URL:https://cat.edu.mx/evento/primaria-1-a-6-se-publican-calificaciones-del-trimestre-i-en-el-sitio-web-del-colegio-consultar-en-www-cat-edu-mx-con-su-llave-cat-matricula/
CATEGORIES:Primaria
END:VEVENT
BEGIN:VEVENT
DTSTART;TZID=UTC:20251125T074500
DTEND;TZID=UTC:20251125T083000
DTSTAMP:20260423T125020
CREATED:20251030T204509Z
LAST-MODIFIED:20251030T204509Z
UID:10001152-1764056700-1764059400@cat.edu.mx
SUMMARY:PRIMARIA: 7:45 a.m. Homenaje a la Bandera a cargo de 4°C. 3° y 6° Entrega de diplomas a los ganadores del Concurso de Cálculo Mental
DESCRIPTION:
URL:https://cat.edu.mx/evento/primaria-745-a-m-homenaje-a-la-bandera-a-cargo-de-4c-3-y-6-entrega-de-diplomas-a-los-ganadores-del-concurso-de-calculo-mental/
CATEGORIES:Primaria
END:VEVENT
BEGIN:VEVENT
DTSTART;TZID=UTC:20251125T080000
DTEND;TZID=UTC:20251125T090000
DTSTAMP:20260423T125020
CREATED:20251030T204557Z
LAST-MODIFIED:20251030T204557Z
UID:10001153-1764057600-1764061200@cat.edu.mx
SUMMARY:PRIMARIA: Todos con uniforme de E.F. (playera naranja short de  deportes y tenis) como apoyo al Día Internacional de la Eliminación de la Violencia contra la Mujer
DESCRIPTION:
URL:https://cat.edu.mx/evento/primaria-todos-con-uniforme-de-e-f-playera-naranja-short-de-deportes-y-tenis-como-apoyo-al-dia-internacional-de-la-eliminacion-de-la-violencia-contra-la-mujer/
CATEGORIES:Primaria
END:VEVENT
BEGIN:VEVENT
DTSTART;TZID=UTC:20251125T080000
DTEND;TZID=UTC:20251125T090000
DTSTAMP:20260423T125020
CREATED:20251030T204636Z
LAST-MODIFIED:20251030T204636Z
UID:10001154-1764057600-1764061200@cat.edu.mx
SUMMARY:PRIMARIA: 2° y 5° Concurso de Cálculo Mental. Etapa 1
DESCRIPTION:
URL:https://cat.edu.mx/evento/primaria-2-y-5-concurso-de-calculo-mental-etapa-1/
CATEGORIES:Primaria
END:VEVENT
BEGIN:VEVENT
DTSTART;TZID=UTC:20251126T080000
DTEND;TZID=UTC:20251126T090000
DTSTAMP:20260423T125020
CREATED:20251030T204807Z
LAST-MODIFIED:20251030T204807Z
UID:10001156-1764144000-1764147600@cat.edu.mx
SUMMARY:PRIMARIA: 1° a 6° Evaluación 4 de Habilidades Matemáticas. Trimestre 2
DESCRIPTION:
URL:https://cat.edu.mx/evento/primaria-1-a-6-evaluacion-4-de-habilidades-matematicas-trimestre-2/
CATEGORIES:Primaria
END:VEVENT
BEGIN:VEVENT
DTSTART;TZID=UTC:20251126T080000
DTEND;TZID=UTC:20251126T090000
DTSTAMP:20260423T125020
CREATED:20251030T204837Z
LAST-MODIFIED:20251030T204837Z
UID:10001157-1764144000-1764147600@cat.edu.mx
SUMMARY:PRIMARIA: 2° y 5° Concurso de Cálculo Mental. Etapa 2
DESCRIPTION:
URL:https://cat.edu.mx/evento/primaria-2-y-5-concurso-de-calculo-mental-etapa-2/
CATEGORIES:Primaria
END:VEVENT
BEGIN:VEVENT
DTSTART;TZID=UTC:20251127T080000
DTEND;TZID=UTC:20251127T090000
DTSTAMP:20260423T125020
CREATED:20251030T204912Z
LAST-MODIFIED:20251030T204912Z
UID:10001158-1764230400-1764234000@cat.edu.mx
SUMMARY:PRIMARIA: 2° y 5° Concurso de Cálculo Mental. Etapa 3
DESCRIPTION:
URL:https://cat.edu.mx/evento/primaria-2-y-5-concurso-de-calculo-mental-etapa-3/
CATEGORIES:Primaria
END:VEVENT
BEGIN:VEVENT
DTSTART;TZID=UTC:20251127T080000
DTEND;TZID=UTC:20251127T090000
DTSTAMP:20260423T125020
CREATED:20251030T204951Z
LAST-MODIFIED:20251030T204951Z
UID:10001159-1764230400-1764234000@cat.edu.mx
SUMMARY:PRIMARIA: Thanksgiving Day PICNIC Día de Acción de Gracias en E.U.A.
DESCRIPTION:
URL:https://cat.edu.mx/evento/primaria-thanksgiving-day-picnic-dia-de-accion-de-gracias-en-e-u-a/
CATEGORIES:Primaria
END:VEVENT
BEGIN:VEVENT
DTSTART;VALUE=DATE:20251128
DTEND;VALUE=DATE:20251129
DTSTAMP:20260423T125020
CREATED:20251127T151757Z
LAST-MODIFIED:20251127T151849Z
UID:10001168-1764288000-1764374399@cat.edu.mx
SUMMARY:PRIMARIA: Inicia campaña de donación de juguetes
DESCRIPTION:1° a 3° Juguetes nuevos o usados en buen estado para niñas y niños de comunidades necesitadas \n(Misión K) \n4° a 6° Juguetes nuevos para niñas y niños del Hospital del Niño (ANIDAR)
URL:https://cat.edu.mx/evento/primaria-inicia-campana-de-donacion-de-juguetes/
CATEGORIES:Primaria
END:VEVENT
BEGIN:VEVENT
DTSTART;TZID=UTC:20251128T080000
DTEND;TZID=UTC:20251128T130000
DTSTAMP:20260423T125020
CREATED:20251030T205039Z
LAST-MODIFIED:20251030T205039Z
UID:10001160-1764316800-1764334800@cat.edu.mx
SUMMARY:PRIMARIA: SUSPENSIÓN DE  LABORES PARA  ALUMNOS POR  CONSEJO TÉCNICO  ESCOLAR  Y TALLER INTENSIVO DE FORMACIÓN CONTINUA PARA DOCENTES
DESCRIPTION:
URL:https://cat.edu.mx/evento/primaria-suspension-de-labores-para-alumnos-por-consejo-tecnico-escolar-y-taller-intensivo-de-formacion-continua-para-docentes-2/
CATEGORIES:Primaria
END:VEVENT
BEGIN:VEVENT
DTSTART;VALUE=DATE:20251201
DTEND;VALUE=DATE:20251209
DTSTAMP:20260423T125020
CREATED:20251127T152020Z
LAST-MODIFIED:20251127T152020Z
UID:10001170-1764547200-1765238399@cat.edu.mx
SUMMARY:PRIMARIA: Ensayos Muestra Artística Navideña
DESCRIPTION:
URL:https://cat.edu.mx/evento/primaria-ensayos-muestra-artistica-navidena/
CATEGORIES:Primaria
END:VEVENT
BEGIN:VEVENT
DTSTART;VALUE=DATE:20251201
DTEND;VALUE=DATE:20251218
DTSTAMP:20260423T125020
CREATED:20251127T151943Z
LAST-MODIFIED:20251127T151943Z
UID:10001169-1764547200-1766015999@cat.edu.mx
SUMMARY:PRIMARIA: CONTINÚA CAMPAÑA DE DONACIÓN
DESCRIPTION:1° a 3° Juguetes nuevos o usados en buen estado para niñas y niños de comunidades necesitadas \n(Misión K) \n4° a 6° Juguetes nuevos para niñas y niños del Hospital del Niño (ANIDAR)
URL:https://cat.edu.mx/evento/primaria-continua-campana-de-donacion/
CATEGORIES:Primaria
END:VEVENT
BEGIN:VEVENT
DTSTART;TZID=UTC:20251202T074500
DTEND;TZID=UTC:20251202T083000
DTSTAMP:20260423T125020
CREATED:20251127T152124Z
LAST-MODIFIED:20251127T152124Z
UID:10001171-1764661500-1764664200@cat.edu.mx
SUMMARY:PRIMARIA: 7:45 a.m. Homenaje a la Bandera a cargo de 3°C. 2° y 5° Entrega de diplomas a los ganadores del Concurso de Cálculo Mental
DESCRIPTION:
URL:https://cat.edu.mx/evento/primaria-745-a-m-homenaje-a-la-bandera-a-cargo-de-3c-2-y-5-entrega-de-diplomas-a-los-ganadores-del-concurso-de-calculo-mental/
CATEGORIES:Primaria
END:VEVENT
BEGIN:VEVENT
DTSTART;TZID=UTC:20251202T080000
DTEND;TZID=UTC:20251202T090000
DTSTAMP:20260423T125020
CREATED:20251127T152204Z
LAST-MODIFIED:20251127T152204Z
UID:10001172-1764662400-1764666000@cat.edu.mx
SUMMARY:PRIMARIA: 1° y 4° Concurso de Cálculo Mental Etapa 1
DESCRIPTION:
URL:https://cat.edu.mx/evento/primaria-1-y-4-concurso-de-calculo-mental-etapa-1/
CATEGORIES:Primaria
END:VEVENT
BEGIN:VEVENT
DTSTART;TZID=UTC:20251202T083000
DTEND;TZID=UTC:20251202T093000
DTSTAMP:20260423T125020
CREATED:20251127T152247Z
LAST-MODIFIED:20251127T152257Z
UID:10001173-1764664200-1764667800@cat.edu.mx
SUMMARY:PRIMARIA: 8:30 a 9:30 a.m.  Escuela para Padres “Hablemos de los juegos en línea y el ciberbullying” en E-Club. Entrada gratuita
DESCRIPTION:
URL:https://cat.edu.mx/evento/primaria-830-a-930-a-m-escuela-para-padres-hablemos-de-los-juegos-en-linea-y-el-ciberbullying-en-e-club-entrada-gratuita/
CATEGORIES:Primaria
END:VEVENT
BEGIN:VEVENT
DTSTART;VALUE=DATE:20251203
DTEND;VALUE=DATE:20251204
DTSTAMP:20260423T125020
CREATED:20251127T154619Z
LAST-MODIFIED:20251127T154619Z
UID:10001197-1764720000-1764806399@cat.edu.mx
SUMMARY:PRIMARIA: Día Internacional de las Personas con Discapacidad
DESCRIPTION:
URL:https://cat.edu.mx/evento/primaria-dia-internacional-de-las-personas-con-discapacidad/
CATEGORIES:Primaria
END:VEVENT
BEGIN:VEVENT
DTSTART;TZID=UTC:20251203T080000
DTEND;TZID=UTC:20251203T090000
DTSTAMP:20260423T125020
CREATED:20251127T152338Z
LAST-MODIFIED:20251127T152338Z
UID:10001174-1764748800-1764752400@cat.edu.mx
SUMMARY:PRIMARIA: 1° a 6° Evaluación 5 de Habilidades Matemáticas.  Trimestre 2
DESCRIPTION:
URL:https://cat.edu.mx/evento/primaria-1-a-6-evaluacion-5-de-habilidades-matematicas-trimestre-2/
CATEGORIES:Primaria
END:VEVENT
BEGIN:VEVENT
DTSTART;TZID=UTC:20251203T090000
DTEND;TZID=UTC:20251203T100000
DTSTAMP:20260423T125020
CREATED:20251127T152420Z
LAST-MODIFIED:20251127T152420Z
UID:10001175-1764752400-1764756000@cat.edu.mx
SUMMARY:PRIMARIA: 1° y 4° Concurso de Cálculo Mental. Etapa 2
DESCRIPTION:
URL:https://cat.edu.mx/evento/primaria-1-y-4-concurso-de-calculo-mental-etapa-2/
CATEGORIES:Primaria
END:VEVENT
BEGIN:VEVENT
DTSTART;TZID=UTC:20251204T080000
DTEND;TZID=UTC:20251204T090000
DTSTAMP:20260423T125020
CREATED:20251127T152509Z
LAST-MODIFIED:20251127T152509Z
UID:10001176-1764835200-1764838800@cat.edu.mx
SUMMARY:PRIMARIA: 1° y 4° Concurso de Cálculo Mental. Etapa 3
DESCRIPTION:
URL:https://cat.edu.mx/evento/primaria-1-y-4-concurso-de-calculo-mental-etapa-3/
CATEGORIES:Primaria
END:VEVENT
BEGIN:VEVENT
DTSTART;TZID=UTC:20251205T080000
DTEND;TZID=UTC:20251205T090000
DTSTAMP:20260423T125020
CREATED:20251127T152548Z
LAST-MODIFIED:20251127T152548Z
UID:10001177-1764921600-1764925200@cat.edu.mx
SUMMARY:PRIMARIA: 1°a 6º Evaluación 2 de Vocabulary & Verbs. Trimestre 2
DESCRIPTION:
URL:https://cat.edu.mx/evento/primaria-1a-6o-evaluacion-2-de-vocabulary-verbs-trimestre-2/
CATEGORIES:Primaria
END:VEVENT
BEGIN:VEVENT
DTSTART;VALUE=DATE:20251207
DTEND;VALUE=DATE:20251208
DTSTAMP:20260423T125020
CREATED:20251127T152858Z
LAST-MODIFIED:20251127T152858Z
UID:10001178-1765065600-1765151999@cat.edu.mx
SUMMARY:PRIMARIA: Fecha límite de pago de colegiatura con descuento
DESCRIPTION:
URL:https://cat.edu.mx/evento/primaria-fecha-limite-de-pago-de-colegiatura-con-descuento/
CATEGORIES:Primaria
END:VEVENT
BEGIN:VEVENT
DTSTART;VALUE=DATE:20251208
DTEND;VALUE=DATE:20251213
DTSTAMP:20260423T125020
CREATED:20251127T152942Z
LAST-MODIFIED:20251127T152942Z
UID:10001179-1765152000-1765583999@cat.edu.mx
SUMMARY:PRIMARIA;  THE  HOUR   OF   CODE   WEEK
DESCRIPTION:
URL:https://cat.edu.mx/evento/primaria-the-hour-of-code-week/
CATEGORIES:Primaria
END:VEVENT
BEGIN:VEVENT
DTSTART;VALUE=DATE:20251210
DTEND;VALUE=DATE:20251211
DTSTAMP:20260423T125020
CREATED:20251127T154649Z
LAST-MODIFIED:20251127T154649Z
UID:10001198-1765324800-1765411199@cat.edu.mx
SUMMARY:PRIMARIA: Día Internacional de los Derechos Humanos
DESCRIPTION:
URL:https://cat.edu.mx/evento/primaria-dia-internacional-de-los-derechos-humanos/
CATEGORIES:Primaria
END:VEVENT
BEGIN:VEVENT
DTSTART;TZID=UTC:20251210T083000
DTEND;TZID=UTC:20251210T093000
DTSTAMP:20260423T125020
CREATED:20251127T153148Z
LAST-MODIFIED:20251127T153148Z
UID:10001181-1765355400-1765359000@cat.edu.mx
SUMMARY:PRIMARIA: 8:30 a 9:30 a.m. Muestra Artística Navideña 2° y 5°
DESCRIPTION:
URL:https://cat.edu.mx/evento/primaria-830-a-930-a-m-muestra-artistica-navidena-2-y-5/
CATEGORIES:Primaria
END:VEVENT
BEGIN:VEVENT
DTSTART;TZID=UTC:20251211T083000
DTEND;TZID=UTC:20251211T093000
DTSTAMP:20260423T125020
CREATED:20251127T153226Z
LAST-MODIFIED:20251127T153226Z
UID:10001182-1765441800-1765445400@cat.edu.mx
SUMMARY:PRIMARIA: 8:30 a 9:30 a.m. Muestra Artística Navideña 1° y 4°
DESCRIPTION:
URL:https://cat.edu.mx/evento/primaria-830-a-930-a-m-muestra-artistica-navidena-1-y-4/
CATEGORIES:Primaria
END:VEVENT
BEGIN:VEVENT
DTSTART;TZID=UTC:20251212T080000
DTEND;TZID=UTC:20251212T090000
DTSTAMP:20260423T125020
CREATED:20251127T153334Z
LAST-MODIFIED:20251127T153334Z
UID:10001183-1765526400-1765530000@cat.edu.mx
SUMMARY:PRIMARIA: 1° a 6° Evaluación de la Lectura 2 de “Loqueleo”. Trimestre 2
DESCRIPTION:
URL:https://cat.edu.mx/evento/primaria-1-a-6-evaluacion-de-la-lectura-2-de-loqueleo-trimestre-2/
CATEGORIES:Primaria
END:VEVENT
END:VCALENDAR