BEGIN:VCALENDAR
VERSION:2.0
PRODID:-//Colegio Americano de Tabasco SC - ECPv6.9.1//NONSGML v1.0//EN
CALSCALE:GREGORIAN
METHOD:PUBLISH
X-ORIGINAL-URL:https://cat.edu.mx
X-WR-CALDESC:Eventos para Colegio Americano de Tabasco SC
REFRESH-INTERVAL;VALUE=DURATION:PT1H
X-Robots-Tag:noindex
X-PUBLISHED-TTL:PT1H
BEGIN:VTIMEZONE
TZID:UTC
BEGIN:STANDARD
TZOFFSETFROM:+0000
TZOFFSETTO:+0000
TZNAME:UTC
DTSTART:20250101T000000
END:STANDARD
END:VTIMEZONE
BEGIN:VEVENT
DTSTART;TZID=UTC:20251106T080000
DTEND;TZID=UTC:20251106T090000
DTSTAMP:20260419T171013
CREATED:20251030T202402Z
LAST-MODIFIED:20251030T202402Z
UID:10001129-1762416000-1762419600@cat.edu.mx
SUMMARY:PRIMARIA: Toma de fotos de Foto Fácil Venir vestidos con uniforme café con melón\, bien peinados y zapatos boleados Grupos: 3° A\, B\, C y D 5° A\, B\, C y D
DESCRIPTION:
URL:https://cat.edu.mx/evento/primaria-toma-de-fotos-de-foto-facil-venir-vestidos-con-uniforme-cafe-con-melon-bien-peinados-y-zapatos-boleados-grupos-3-a-b-c-y-d-5-a-b-c-y-d/
CATEGORIES:Primaria
END:VEVENT
BEGIN:VEVENT
DTSTART;VALUE=DATE:20251107
DTEND;VALUE=DATE:20251108
DTSTAMP:20260419T171013
CREATED:20251030T202714Z
LAST-MODIFIED:20251030T202714Z
UID:10001132-1762473600-1762559999@cat.edu.mx
SUMMARY:Fecha límite de pago de colegiatura con descuento
DESCRIPTION:
URL:https://cat.edu.mx/evento/fecha-limite-de-pago-de-colegiatura-con-descuento-2/
CATEGORIES:Generales
END:VEVENT
BEGIN:VEVENT
DTSTART;TZID=UTC:20251107T083000
DTEND;TZID=UTC:20251107T123000
DTSTAMP:20260419T171013
CREATED:20251030T202545Z
LAST-MODIFIED:20251030T202545Z
UID:10001130-1762504200-1762518600@cat.edu.mx
SUMMARY:PRIMARIA: Proyecto de 4°: “El Taco más Mexicano”. SÓLO ALUMNOS
DESCRIPTION:
URL:https://cat.edu.mx/evento/primaria-proyecto-de-4-el-taco-mas-mexicano-solo-alumnos/
CATEGORIES:Primaria
END:VEVENT
BEGIN:VEVENT
DTSTART;TZID=UTC:20251107T100000
DTEND;TZID=UTC:20251107T111500
DTSTAMP:20260419T171013
CREATED:20251030T202637Z
LAST-MODIFIED:20251030T202637Z
UID:10001131-1762509600-1762514100@cat.edu.mx
SUMMARY:PRIMARIA: Torneo Interno de Básquetbol (recreos) 1°B vs 1°D y 4°B vs 4°D. Traer la playera del equipo
DESCRIPTION:
URL:https://cat.edu.mx/evento/primaria-torneo-interno-de-basquetbol-recreos-1b-vs-1d-y-4b-vs-4d-traer-la-playera-del-equipo/
CATEGORIES:Primaria
END:VEVENT
BEGIN:VEVENT
DTSTART;VALUE=DATE:20251110
DTEND;VALUE=DATE:20251111
DTSTAMP:20260419T171013
CREATED:20251030T205213Z
LAST-MODIFIED:20251030T205213Z
UID:10001163-1762732800-1762819199@cat.edu.mx
SUMMARY:Día mundial de la ciencia para la paz y el desarrollo
DESCRIPTION:
URL:https://cat.edu.mx/evento/dia-mundial-de-la-ciencia-para-la-paz-y-el-desarrollo/
CATEGORIES:Generales
END:VEVENT
BEGIN:VEVENT
DTSTART;TZID=UTC:20251110T100000
DTEND;TZID=UTC:20251110T111500
DTSTAMP:20260419T171013
CREATED:20250926T173153Z
LAST-MODIFIED:20251022T165014Z
UID:10001091-1762768800-1762773300@cat.edu.mx
SUMMARY:PRIMARIA: Torneo Interno de Básquetbol (recreos) 2°B vs 2°D y 5°B vs 5°D. Traer la playera del equipo (se reprogramaron del 28 de octubre)
DESCRIPTION:(se reprogramaron por los Ejercicios Integradores del Aprendizaje de la SEP)
URL:https://cat.edu.mx/evento/primaria-torneo-interno-de-basquetbol-recreos-2b-vs-2d-y-5b-vs-5d-traer-la-playera-del-equipo/
CATEGORIES:Primaria
END:VEVENT
BEGIN:VEVENT
DTSTART;TZID=UTC:20251111T083000
DTEND;TZID=UTC:20251111T093000
DTSTAMP:20260419T171013
CREATED:20251030T202817Z
LAST-MODIFIED:20251030T202817Z
UID:10001133-1762849800-1762853400@cat.edu.mx
SUMMARY:PRIMARIA: 8:30 a 9:30 am Escuela para Padres “Vida saludable: alimentación en equilibrio” en E-Club. Entrada gratuita
DESCRIPTION:
URL:https://cat.edu.mx/evento/primaria-830-a-930-am-escuela-para-padres-vida-saludable-alimentacion-en-equilibrio-en-e-club-entrada-gratuita/
CATEGORIES:Primaria
END:VEVENT
BEGIN:VEVENT
DTSTART;TZID=UTC:20251111T100000
DTEND;TZID=UTC:20251111T111500
DTSTAMP:20260419T171013
CREATED:20251030T202108Z
LAST-MODIFIED:20251105T170042Z
UID:10001125-1762855200-1762859700@cat.edu.mx
SUMMARY:PRIMARIA: Torneo Interno de Básquetbol (recreos) 1°A vs 1°C y 4°A vs 4°C. Traer la playera del equipo
DESCRIPTION:Reprogramado por mal tiempo del 3 de noviembre
URL:https://cat.edu.mx/evento/primaria-torneo-interno-de-basquetbol-recreos-1a-vs-1c-y-4a-vs-4c-traer-la-playera-del-equipo/
CATEGORIES:Primaria
END:VEVENT
BEGIN:VEVENT
DTSTART;TZID=UTC:20251112T080000
DTEND;TZID=UTC:20251112T090000
DTSTAMP:20260419T171013
CREATED:20251030T202913Z
LAST-MODIFIED:20251030T202913Z
UID:10001134-1762934400-1762938000@cat.edu.mx
SUMMARY:PRIMARIA: 1° a 6° Evaluación 2 de habilidades Matemáticas. Trimestre 2
DESCRIPTION:
URL:https://cat.edu.mx/evento/primaria-1-a-6-evaluacion-2-de-habilidades-matematicas-trimestre-2/
CATEGORIES:Primaria
END:VEVENT
BEGIN:VEVENT
DTSTART;TZID=UTC:20251112T100000
DTEND;TZID=UTC:20251112T111500
DTSTAMP:20260419T171013
CREATED:20251030T203004Z
LAST-MODIFIED:20251107T181704Z
UID:10001135-1762941600-1762946100@cat.edu.mx
SUMMARY:PRIMARIA: Finales de Torneo de Básquetbol (recreos) 3°B vs 3°C y 6°A vs 6°B Femenil. Están invitados los papás
DESCRIPTION:
URL:https://cat.edu.mx/evento/primaria-finales-de-torneo-de-basquetbol-recreos-3-y-6-femenil-estan-invitados-los-papas/
CATEGORIES:Primaria
END:VEVENT
BEGIN:VEVENT
DTSTART;TZID=UTC:20251113T080000
DTEND;TZID=UTC:20251113T123000
DTSTAMP:20260419T171013
CREATED:20251030T203111Z
LAST-MODIFIED:20251030T203111Z
UID:10001136-1763020800-1763037000@cat.edu.mx
SUMMARY:PRIMARIA: Ceremonia de Entrega de Certificados de Cambridge 08:00 - 4° STARTERS / 09:20 - 1°Sec KET / 11:30 - 5° MOVERS. Están invitados los papás
DESCRIPTION:
URL:https://cat.edu.mx/evento/primaria-ceremonia-de-entrega-de-certificados-de-cambridge-0800-4-starters-0920-1sec-ket-1130-5-movers-estan-invitados-los-papas/
CATEGORIES:Primaria
END:VEVENT
BEGIN:VEVENT
DTSTART;TZID=UTC:20251114T070000
DTEND;TZID=UTC:20251114T133000
DTSTAMP:20260419T171013
CREATED:20251030T203217Z
LAST-MODIFIED:20251030T203217Z
UID:10001137-1763103600-1763127000@cat.edu.mx
SUMMARY:PRIMARIA: Registro de calificaciones. Clases en horario normal
DESCRIPTION:
URL:https://cat.edu.mx/evento/primaria-registro-de-calificaciones-clases-en-horario-normal/
CATEGORIES:Primaria
END:VEVENT
BEGIN:VEVENT
DTSTART;TZID=UTC:20251114T100000
DTEND;TZID=UTC:20251114T111500
DTSTAMP:20260419T171013
CREATED:20251030T203306Z
LAST-MODIFIED:20251110T162208Z
UID:10001138-1763114400-1763118900@cat.edu.mx
SUMMARY:PRIMARIA: Finales de Torneo de Básquetbol (recreos) 2°A vs 2°B y 5°B vs 5°C Femenil. Están invitados los papás
DESCRIPTION:
URL:https://cat.edu.mx/evento/primaria-finales-de-torneo-de-basquetbol-recreos-2-y-5-femenil-estan-invitados-los-papas/
CATEGORIES:Primaria
END:VEVENT
BEGIN:VEVENT
DTSTART;VALUE=DATE:20251116
DTEND;VALUE=DATE:20251117
DTSTAMP:20260419T171013
CREATED:20251030T205417Z
LAST-MODIFIED:20251030T205417Z
UID:10001164-1763251200-1763337599@cat.edu.mx
SUMMARY:Día internacional de la tolerancia
DESCRIPTION:
URL:https://cat.edu.mx/evento/dia-internacional-de-la-tolerancia/
CATEGORIES:Generales
END:VEVENT
BEGIN:VEVENT
DTSTART;VALUE=DATE:20251117
DTEND;VALUE=DATE:20251118
DTSTAMP:20260419T171013
CREATED:20251030T203430Z
LAST-MODIFIED:20251030T203430Z
UID:10001139-1763337600-1763423999@cat.edu.mx
SUMMARY:Suspensión de labores programada por la SEP por la conmemoración de la Revolución Mexicana el 20 de noviembre de 1910
DESCRIPTION:
URL:https://cat.edu.mx/evento/suspension-de-labores-programada-por-la-sep-por-la-conmemoracion-de-la-revolucion-mexicana-el-20-de-noviembre-de-1910/
CATEGORIES:Generales
END:VEVENT
BEGIN:VEVENT
DTSTART;TZID=UTC:20251118T080000
DTEND;TZID=UTC:20251118T090000
DTSTAMP:20260419T171013
CREATED:20251030T203522Z
LAST-MODIFIED:20251030T203522Z
UID:10001140-1763452800-1763456400@cat.edu.mx
SUMMARY:PRIMARIA: 1° a 6° Evaluación de la Lectura 1 de “Loqueleo”. Trimestre 2
DESCRIPTION:
URL:https://cat.edu.mx/evento/primaria-1-a-6-evaluacion-de-la-lectura-1-de-loqueleo-trimestre-2/
CATEGORIES:Primaria
END:VEVENT
BEGIN:VEVENT
DTSTART;TZID=UTC:20251118T090000
DTEND;TZID=UTC:20251118T090000
DTSTAMP:20260419T171013
CREATED:20251030T203559Z
LAST-MODIFIED:20251030T204206Z
UID:10001141-1763456400-1763456400@cat.edu.mx
SUMMARY:PRIMARIA: 3° y 6° Concurso de  Cálculo Mental. Etapa 1
DESCRIPTION:
URL:https://cat.edu.mx/evento/primaria-3-y-6concurso-de-calculo-mental-etapa-1/
CATEGORIES:Primaria
END:VEVENT
BEGIN:VEVENT
DTSTART;TZID=UTC:20251118T100000
DTEND;TZID=UTC:20251118T111500
DTSTAMP:20260419T171013
CREATED:20251030T203643Z
LAST-MODIFIED:20251111T165201Z
UID:10001142-1763460000-1763464500@cat.edu.mx
SUMMARY:PRIMARIA: Finales de Torneo de Básquetbol (recreos)  1°C vs 1°D y 4°A vs 4°D Femenil. Están invitados los papás
DESCRIPTION:
URL:https://cat.edu.mx/evento/primaria-finales-de-torneo-de-basquetbol-recreos-1-y-4-femenil-estan-invitados-los-papas/
CATEGORIES:Primaria
END:VEVENT
BEGIN:VEVENT
DTSTART;TZID=UTC:20251119T080000
DTEND;TZID=UTC:20251119T090000
DTSTAMP:20260419T171013
CREATED:20251030T203735Z
LAST-MODIFIED:20251030T203735Z
UID:10001143-1763539200-1763542800@cat.edu.mx
SUMMARY:PRIMARIA: 1° a 6° Evaluación 3 de Habilidades Matemáticas. Trimestre 2
DESCRIPTION:
URL:https://cat.edu.mx/evento/primaria-1-a-6-evaluacion-3-de-habilidades-matematicas-trimestre-2/
CATEGORIES:Primaria
END:VEVENT
BEGIN:VEVENT
DTSTART;TZID=UTC:20251119T090000
DTEND;TZID=UTC:20251119T100000
DTSTAMP:20260419T171013
CREATED:20251030T203810Z
LAST-MODIFIED:20251030T203810Z
UID:10001144-1763542800-1763546400@cat.edu.mx
SUMMARY:PRIMARIA: 3° y 6° Concurso de Cálculo Mental. Etapa 2
DESCRIPTION:
URL:https://cat.edu.mx/evento/primaria-3-y-6-concurso-de-calculo-mental-etapa-2/
CATEGORIES:Primaria
END:VEVENT
BEGIN:VEVENT
DTSTART;TZID=UTC:20251119T100000
DTEND;TZID=UTC:20251119T111500
DTSTAMP:20260419T171013
CREATED:20251030T203856Z
LAST-MODIFIED:20251107T181615Z
UID:10001145-1763546400-1763550900@cat.edu.mx
SUMMARY:PRIMARIA: Finales de Torneo de Básquetbol (recreos) 3°B vs 3°C y 6°A vs 6°B Varonil. Están invitados los papás
DESCRIPTION:
URL:https://cat.edu.mx/evento/primaria-finales-de-torneo-de-basquetbol-recreos-3-y-6-varonil-estan-invitados-los-papas/
CATEGORIES:Primaria
END:VEVENT
BEGIN:VEVENT
DTSTART;VALUE=DATE:20251120
DTEND;VALUE=DATE:20251121
DTSTAMP:20260419T171013
CREATED:20251030T205441Z
LAST-MODIFIED:20251030T205441Z
UID:10001165-1763596800-1763683199@cat.edu.mx
SUMMARY:Aniversario de la Revolución Mexicana
DESCRIPTION:
URL:https://cat.edu.mx/evento/aniversario-de-la-revolucion-mexicana/
CATEGORIES:Generales
END:VEVENT
BEGIN:VEVENT
DTSTART;TZID=UTC:20251120T080000
DTEND;TZID=UTC:20251120T090000
DTSTAMP:20260419T171013
CREATED:20251030T203931Z
LAST-MODIFIED:20251030T203931Z
UID:10001146-1763625600-1763629200@cat.edu.mx
SUMMARY:PRIMARIA: 3° y 6° Concurso de Cálculo Mental. Etapa 3
DESCRIPTION:
URL:https://cat.edu.mx/evento/primaria-3-y-6-concurso-de-calculo-mental-etapa-3/
CATEGORIES:Primaria
END:VEVENT
BEGIN:VEVENT
DTSTART;TZID=UTC:20251120T080000
DTEND;TZID=UTC:20251120T090000
DTSTAMP:20260419T171013
CREATED:20251030T204008Z
LAST-MODIFIED:20251030T204008Z
UID:10001147-1763625600-1763629200@cat.edu.mx
SUMMARY:PRIMARIA: 8:00 a.m. Conmemoración de la Revolución Mexicana a cargo de 5° C
DESCRIPTION:
URL:https://cat.edu.mx/evento/primaria-800-a-m-conmemoracion-de-la-revolucion-mexicana-a-cargo-de-5-c/
CATEGORIES:Primaria
END:VEVENT
BEGIN:VEVENT
DTSTART;TZID=UTC:20251121T080000
DTEND;TZID=UTC:20251121T090000
DTSTAMP:20260419T171013
CREATED:20251030T204046Z
LAST-MODIFIED:20251030T204046Z
UID:10001148-1763712000-1763715600@cat.edu.mx
SUMMARY:PRIMARIA: 1° a 6° Evaluación 1 de Vocabulary & Verbs. Trimestre 2
DESCRIPTION:
URL:https://cat.edu.mx/evento/primaria-1-a-6-evaluacion-1-de-vocabulary-verbs-trimestre-2/
CATEGORIES:Primaria
END:VEVENT
BEGIN:VEVENT
DTSTART;TZID=UTC:20251121T100000
DTEND;TZID=UTC:20251121T111500
DTSTAMP:20260419T171013
CREATED:20251030T204130Z
LAST-MODIFIED:20251110T162255Z
UID:10001149-1763719200-1763723700@cat.edu.mx
SUMMARY:PRIMARIA: Finales de Torneo de Básquetbol (recreos) 2°A vs 2°D y 5°A vs 5°D Varonil. Están invitados los papás
DESCRIPTION:
URL:https://cat.edu.mx/evento/primaria-finales-de-torneo-de-basquetbol-recreos-2-y-5-varonil-estan-invitados-los-papas/
CATEGORIES:Primaria
END:VEVENT
BEGIN:VEVENT
DTSTART;VALUE=DATE:20251123
DTEND;VALUE=DATE:20251124
DTSTAMP:20260419T171013
CREATED:20251030T205517Z
LAST-MODIFIED:20251030T205517Z
UID:10001166-1763856000-1763942399@cat.edu.mx
SUMMARY:Día de la Armada de México
DESCRIPTION:
URL:https://cat.edu.mx/evento/dia-de-la-armada-de-mexico/
CATEGORIES:Generales
END:VEVENT
BEGIN:VEVENT
DTSTART;TZID=UTC:20251124T080000
DTEND;TZID=UTC:20251124T090000
DTSTAMP:20260419T171013
CREATED:20251030T204257Z
LAST-MODIFIED:20251030T204257Z
UID:10001150-1763971200-1763974800@cat.edu.mx
SUMMARY:PRIMARIA: 1° a 6° Se asigna Lectura 2 de “Loqueleo”. Trimestre 2
DESCRIPTION:
URL:https://cat.edu.mx/evento/primaria-1-a-6-se-asigna-lectura-2-de-loqueleo-trimestre-2/
CATEGORIES:Primaria
END:VEVENT
BEGIN:VEVENT
DTSTART;TZID=UTC:20251124T100000
DTEND;TZID=UTC:20251124T111500
DTSTAMP:20260419T171013
CREATED:20251030T204344Z
LAST-MODIFIED:20251111T165244Z
UID:10001151-1763978400-1763982900@cat.edu.mx
SUMMARY:PRIMARIA: Finales de Torneo de Básquetbol (recreos)  1°A vs 1°B y 4°A vs 4°D Varonil. Están invitados los papás
DESCRIPTION:
URL:https://cat.edu.mx/evento/primaria-finales-de-torneo-de-basquetbol-recreos-1-y-4-varonil-estan-invitados-los-papas/
CATEGORIES:Primaria
END:VEVENT
BEGIN:VEVENT
DTSTART;VALUE=DATE:20251125
DTEND;VALUE=DATE:20251126
DTSTAMP:20260419T171013
CREATED:20251030T205543Z
LAST-MODIFIED:20251030T205543Z
UID:10001167-1764028800-1764115199@cat.edu.mx
SUMMARY:Día internacional de la eliminación de la violencia contra la mujer
DESCRIPTION:
URL:https://cat.edu.mx/evento/dia-internacional-de-la-eliminacion-de-la-violencia-contra-la-mujer/
CATEGORIES:Generales
END:VEVENT
END:VCALENDAR